BEGIN:VCALENDAR
VERSION:2.0
PRODID:-//Crossing Community Church - ECPv6.15.20//NONSGML v1.0//EN
CALSCALE:GREGORIAN
METHOD:PUBLISH
X-WR-CALNAME:Crossing Community Church
X-ORIGINAL-URL:https://crossing.org
X-WR-CALDESC:Events for Crossing Community Church
REFRESH-INTERVAL;VALUE=DURATION:PT1H
X-Robots-Tag:noindex
X-PUBLISHED-TTL:PT1H
BEGIN:VTIMEZONE
TZID:America/New_York
BEGIN:DAYLIGHT
TZOFFSETFROM:-0500
TZOFFSETTO:-0400
TZNAME:EDT
DTSTART:20250309T070000
END:DAYLIGHT
BEGIN:STANDARD
TZOFFSETFROM:-0400
TZOFFSETTO:-0500
TZNAME:EST
DTSTART:20251102T060000
END:STANDARD
BEGIN:DAYLIGHT
TZOFFSETFROM:-0500
TZOFFSETTO:-0400
TZNAME:EDT
DTSTART:20260308T070000
END:DAYLIGHT
BEGIN:STANDARD
TZOFFSETFROM:-0400
TZOFFSETTO:-0500
TZNAME:EST
DTSTART:20261101T060000
END:STANDARD
BEGIN:DAYLIGHT
TZOFFSETFROM:-0500
TZOFFSETTO:-0400
TZNAME:EDT
DTSTART:20270314T070000
END:DAYLIGHT
BEGIN:STANDARD
TZOFFSETFROM:-0400
TZOFFSETTO:-0500
TZNAME:EST
DTSTART:20271107T060000
END:STANDARD
END:VTIMEZONE
BEGIN:VEVENT
DTSTART;TZID=America/New_York:20260429T183000
DTEND;TZID=America/New_York:20260429T200000
DTSTAMP:20260421T112900
CREATED:20251023T175440Z
LAST-MODIFIED:20260406T110932Z
UID:10003162-1777487400-1777492800@crossing.org
SUMMARY:Wednesday Night Activities
DESCRIPTION:
URL:https://crossing.org/event/wednesday-night-activities-48/
CATEGORIES:Ministry Events
END:VEVENT
BEGIN:VEVENT
DTSTART;TZID=America/New_York:20260430T100000
DTEND;TZID=America/New_York:20260430T113000
DTSTAMP:20260421T112900
CREATED:20250213T232459Z
LAST-MODIFIED:20260420T160945Z
UID:10002951-1777543200-1777548600@crossing.org
SUMMARY:Ladies Bible Study
DESCRIPTION:Contact Rosanna Colombo for more information.
URL:https://crossing.org/event/ladies-bible-study-283/
CATEGORIES:Bible Studies
END:VEVENT
BEGIN:VEVENT
DTSTART;TZID=America/New_York:20260502T073000
DTEND;TZID=America/New_York:20260502T090000
DTSTAMP:20260421T112900
CREATED:20240502T133950Z
LAST-MODIFIED:20260420T160945Z
UID:10002560-1777707000-1777712400@crossing.org
SUMMARY:Men's Bible Study
DESCRIPTION:Email the Men’s Ministry for more information! 
URL:https://crossing.org/event/mens-bible-study-168/
LOCATION:Crossing Community Church
CATEGORIES:Bible Studies
END:VEVENT
BEGIN:VEVENT
DTSTART;TZID=America/New_York:20260503T100000
DTEND;TZID=America/New_York:20260503T111500
DTSTAMP:20260421T112900
CREATED:20241121T170948Z
LAST-MODIFIED:20260406T110932Z
UID:10002807-1777802400-1777806900@crossing.org
SUMMARY:Worship Service
DESCRIPTION:
URL:https://crossing.org/event/worship-service-358/
CATEGORIES:Ministry Events
END:VEVENT
BEGIN:VEVENT
DTSTART;TZID=America/New_York:20260503T111500
DTEND;TZID=America/New_York:20260503T114500
DTSTAMP:20260421T112900
CREATED:20250730T130940Z
LAST-MODIFIED:20260406T110932Z
UID:10003105-1777806900-1777808700@crossing.org
SUMMARY:First Sunday Fellowship
DESCRIPTION:
URL:https://crossing.org/event/first-sunday-fellowship-10/
CATEGORIES:Ministry Events
END:VEVENT
BEGIN:VEVENT
DTSTART;TZID=America/New_York:20260506T183000
DTEND;TZID=America/New_York:20260506T200000
DTSTAMP:20260421T112900
CREATED:20251023T175440Z
LAST-MODIFIED:20260406T110932Z
UID:10003163-1778092200-1778097600@crossing.org
SUMMARY:Wednesday Night Activities
DESCRIPTION:
URL:https://crossing.org/event/wednesday-night-activities-49/
CATEGORIES:Ministry Events
END:VEVENT
BEGIN:VEVENT
DTSTART;TZID=America/New_York:20260507T100000
DTEND;TZID=America/New_York:20260507T113000
DTSTAMP:20260421T112900
CREATED:20250213T232459Z
LAST-MODIFIED:20260420T160945Z
UID:10002952-1778148000-1778153400@crossing.org
SUMMARY:Ladies Bible Study
DESCRIPTION:Contact Rosanna Colombo for more information.
URL:https://crossing.org/event/ladies-bible-study-284/
CATEGORIES:Bible Studies
END:VEVENT
BEGIN:VEVENT
DTSTART;TZID=America/New_York:20260509T073000
DTEND;TZID=America/New_York:20260509T090000
DTSTAMP:20260421T112900
CREATED:20240509T135452Z
LAST-MODIFIED:20260420T160945Z
UID:10002564-1778311800-1778317200@crossing.org
SUMMARY:Men's Bible Study
DESCRIPTION:Email the Men’s Ministry for more information! 
URL:https://crossing.org/event/mens-bible-study-169/
LOCATION:Crossing Community Church
CATEGORIES:Bible Studies
END:VEVENT
BEGIN:VEVENT
DTSTART;TZID=America/New_York:20260510T100000
DTEND;TZID=America/New_York:20260510T111500
DTSTAMP:20260421T112900
CREATED:20241121T170948Z
LAST-MODIFIED:20260406T110932Z
UID:10002808-1778407200-1778411700@crossing.org
SUMMARY:Worship Service
DESCRIPTION:
URL:https://crossing.org/event/worship-service-359/
CATEGORIES:Ministry Events
END:VEVENT
BEGIN:VEVENT
DTSTART;TZID=America/New_York:20260512T190000
DTEND;TZID=America/New_York:20260512T203000
DTSTAMP:20260421T112900
CREATED:20240512T192512Z
LAST-MODIFIED:20260406T110932Z
UID:10002567-1778612400-1778617800@crossing.org
SUMMARY:2nd Tuesday (Women's Ministry)
DESCRIPTION:Contact the Women’s Ministry for more information!
URL:https://crossing.org/event/2nd-tuesday-womens-ministry-29/
CATEGORIES:Ministry Events
END:VEVENT
BEGIN:VEVENT
DTSTART;TZID=America/New_York:20260513T183000
DTEND;TZID=America/New_York:20260513T200000
DTSTAMP:20260421T112900
CREATED:20251023T175440Z
LAST-MODIFIED:20260406T110932Z
UID:10003164-1778697000-1778702400@crossing.org
SUMMARY:Wednesday Night Activities
DESCRIPTION:
URL:https://crossing.org/event/wednesday-night-activities-50/
CATEGORIES:Ministry Events
END:VEVENT
BEGIN:VEVENT
DTSTART;TZID=America/New_York:20260514T100000
DTEND;TZID=America/New_York:20260514T113000
DTSTAMP:20260421T112900
CREATED:20250213T232500Z
LAST-MODIFIED:20260420T160945Z
UID:10002953-1778752800-1778758200@crossing.org
SUMMARY:Ladies Bible Study
DESCRIPTION:Contact Rosanna Colombo for more information.
URL:https://crossing.org/event/ladies-bible-study-285/
CATEGORIES:Bible Studies
END:VEVENT
BEGIN:VEVENT
DTSTART;TZID=America/New_York:20260516T073000
DTEND;TZID=America/New_York:20260516T090000
DTSTAMP:20260421T112900
CREATED:20240516T140954Z
LAST-MODIFIED:20260420T160945Z
UID:10002569-1778916600-1778922000@crossing.org
SUMMARY:Men's Bible Study
DESCRIPTION:Email the Men’s Ministry for more information! 
URL:https://crossing.org/event/mens-bible-study-170/
LOCATION:Crossing Community Church
CATEGORIES:Bible Studies
END:VEVENT
BEGIN:VEVENT
DTSTART;TZID=America/New_York:20260517T100000
DTEND;TZID=America/New_York:20260517T111500
DTSTAMP:20260421T112900
CREATED:20241121T170949Z
LAST-MODIFIED:20260406T110932Z
UID:10002809-1779012000-1779016500@crossing.org
SUMMARY:Worship Service
DESCRIPTION:
URL:https://crossing.org/event/worship-service-360/
CATEGORIES:Ministry Events
END:VEVENT
BEGIN:VEVENT
DTSTART;TZID=America/New_York:20260520T183000
DTEND;TZID=America/New_York:20260520T200000
DTSTAMP:20260421T112900
CREATED:20251023T175440Z
LAST-MODIFIED:20260406T110932Z
UID:10003165-1779301800-1779307200@crossing.org
SUMMARY:Wednesday Night Activities
DESCRIPTION:
URL:https://crossing.org/event/wednesday-night-activities-51/
CATEGORIES:Ministry Events
END:VEVENT
BEGIN:VEVENT
DTSTART;TZID=America/New_York:20260521T100000
DTEND;TZID=America/New_York:20260521T113000
DTSTAMP:20260421T112900
CREATED:20250213T232500Z
LAST-MODIFIED:20260420T160945Z
UID:10002954-1779357600-1779363000@crossing.org
SUMMARY:Ladies Bible Study
DESCRIPTION:Contact Rosanna Colombo for more information.
URL:https://crossing.org/event/ladies-bible-study-286/
CATEGORIES:Bible Studies
END:VEVENT
BEGIN:VEVENT
DTSTART;TZID=America/New_York:20260523T073000
DTEND;TZID=America/New_York:20260523T090000
DTSTAMP:20260421T112900
CREATED:20240523T145450Z
LAST-MODIFIED:20260420T160945Z
UID:10002573-1779521400-1779526800@crossing.org
SUMMARY:Men's Bible Study
DESCRIPTION:Email the Men’s Ministry for more information! 
URL:https://crossing.org/event/mens-bible-study-171/
LOCATION:Crossing Community Church
CATEGORIES:Bible Studies
END:VEVENT
BEGIN:VEVENT
DTSTART;TZID=America/New_York:20260524T100000
DTEND;TZID=America/New_York:20260524T111500
DTSTAMP:20260421T112900
CREATED:20241121T170949Z
LAST-MODIFIED:20260406T110932Z
UID:10002810-1779616800-1779621300@crossing.org
SUMMARY:Worship Service
DESCRIPTION:
URL:https://crossing.org/event/worship-service-361/
CATEGORIES:Ministry Events
END:VEVENT
BEGIN:VEVENT
DTSTART;TZID=America/New_York:20260527T183000
DTEND;TZID=America/New_York:20260527T200000
DTSTAMP:20260421T112900
CREATED:20251023T175441Z
LAST-MODIFIED:20260406T110933Z
UID:10003166-1779906600-1779912000@crossing.org
SUMMARY:Wednesday Night Activities
DESCRIPTION:
URL:https://crossing.org/event/wednesday-night-activities-52/
CATEGORIES:Ministry Events
END:VEVENT
BEGIN:VEVENT
DTSTART;TZID=America/New_York:20260528T100000
DTEND;TZID=America/New_York:20260528T113000
DTSTAMP:20260421T112900
CREATED:20250213T232500Z
LAST-MODIFIED:20260420T160959Z
UID:10002955-1779962400-1779967800@crossing.org
SUMMARY:Ladies Bible Study
DESCRIPTION:Contact Rosanna Colombo for more information.
URL:https://crossing.org/event/ladies-bible-study-287/
CATEGORIES:Bible Studies
END:VEVENT
BEGIN:VEVENT
DTSTART;TZID=America/New_York:20260530T073000
DTEND;TZID=America/New_York:20260530T090000
DTSTAMP:20260421T112900
CREATED:20240530T153954Z
LAST-MODIFIED:20260420T160959Z
UID:10002579-1780126200-1780131600@crossing.org
SUMMARY:Men's Bible Study
DESCRIPTION:Email the Men’s Ministry for more information! 
URL:https://crossing.org/event/mens-bible-study-172/
LOCATION:Crossing Community Church
CATEGORIES:Bible Studies
END:VEVENT
BEGIN:VEVENT
DTSTART;TZID=America/New_York:20260531T100000
DTEND;TZID=America/New_York:20260531T111500
DTSTAMP:20260421T112900
CREATED:20241121T170949Z
LAST-MODIFIED:20260406T110933Z
UID:10002811-1780221600-1780226100@crossing.org
SUMMARY:Worship Service
DESCRIPTION:
URL:https://crossing.org/event/worship-service-362/
CATEGORIES:Ministry Events
END:VEVENT
BEGIN:VEVENT
DTSTART;TZID=America/New_York:20260604T100000
DTEND;TZID=America/New_York:20260604T113000
DTSTAMP:20260421T112900
CREATED:20250213T232500Z
LAST-MODIFIED:20260420T160959Z
UID:10002956-1780567200-1780572600@crossing.org
SUMMARY:Ladies Bible Study
DESCRIPTION:Contact Rosanna Colombo for more information.
URL:https://crossing.org/event/ladies-bible-study-288/
CATEGORIES:Bible Studies
END:VEVENT
BEGIN:VEVENT
DTSTART;TZID=America/New_York:20260606T073000
DTEND;TZID=America/New_York:20260606T090000
DTSTAMP:20260421T112900
CREATED:20240606T160954Z
LAST-MODIFIED:20260420T160959Z
UID:10002583-1780731000-1780736400@crossing.org
SUMMARY:Men's Bible Study
DESCRIPTION:Email the Men’s Ministry for more information! 
URL:https://crossing.org/event/mens-bible-study-173/
LOCATION:Crossing Community Church
CATEGORIES:Bible Studies
END:VEVENT
BEGIN:VEVENT
DTSTART;TZID=America/New_York:20260607T100000
DTEND;TZID=America/New_York:20260607T111500
DTSTAMP:20260421T112900
CREATED:20241121T170949Z
LAST-MODIFIED:20260406T110933Z
UID:10002812-1780826400-1780830900@crossing.org
SUMMARY:Worship Service
DESCRIPTION:
URL:https://crossing.org/event/worship-service-363/
CATEGORIES:Ministry Events
END:VEVENT
BEGIN:VEVENT
DTSTART;TZID=America/New_York:20260607T111500
DTEND;TZID=America/New_York:20260607T114500
DTSTAMP:20260421T112900
CREATED:20250730T130940Z
LAST-MODIFIED:20260406T110933Z
UID:10003106-1780830900-1780832700@crossing.org
SUMMARY:First Sunday Fellowship
DESCRIPTION:
URL:https://crossing.org/event/first-sunday-fellowship-11/
CATEGORIES:Ministry Events
END:VEVENT
BEGIN:VEVENT
DTSTART;TZID=America/New_York:20260609T190000
DTEND;TZID=America/New_York:20260609T203000
DTSTAMP:20260421T112900
CREATED:20240609T212501Z
LAST-MODIFIED:20260406T110933Z
UID:10002586-1781031600-1781037000@crossing.org
SUMMARY:2nd Tuesday (Women's Ministry)
DESCRIPTION:Contact the Women’s Ministry for more information!
URL:https://crossing.org/event/2nd-tuesday-womens-ministry-30/
CATEGORIES:Ministry Events
END:VEVENT
BEGIN:VEVENT
DTSTART;TZID=America/New_York:20260611T100000
DTEND;TZID=America/New_York:20260611T113000
DTSTAMP:20260421T112900
CREATED:20250213T232501Z
LAST-MODIFIED:20260420T160959Z
UID:10002957-1781172000-1781177400@crossing.org
SUMMARY:Ladies Bible Study
DESCRIPTION:Contact Rosanna Colombo for more information.
URL:https://crossing.org/event/ladies-bible-study-289/
CATEGORIES:Bible Studies
END:VEVENT
BEGIN:VEVENT
DTSTART;TZID=America/New_York:20260613T073000
DTEND;TZID=America/New_York:20260613T090000
DTSTAMP:20260421T112900
CREATED:20240613T164212Z
LAST-MODIFIED:20260420T161000Z
UID:10002589-1781335800-1781341200@crossing.org
SUMMARY:Men's Bible Study
DESCRIPTION:Email the Men’s Ministry for more information! 
URL:https://crossing.org/event/mens-bible-study-174/
LOCATION:Crossing Community Church
CATEGORIES:Bible Studies
END:VEVENT
BEGIN:VEVENT
DTSTART;TZID=America/New_York:20260614T100000
DTEND;TZID=America/New_York:20260614T111500
DTSTAMP:20260421T112900
CREATED:20241121T171003Z
LAST-MODIFIED:20260406T110933Z
UID:10002813-1781431200-1781435700@crossing.org
SUMMARY:Worship Service
DESCRIPTION:
URL:https://crossing.org/event/worship-service-364/
CATEGORIES:Ministry Events
END:VEVENT
END:VCALENDAR